BEGIN:VCALENDAR
VERSION:2.0
METHOD:PUBLISH
PRODID:-//SND // Events//EN
X-WR-TIMEZONE:Europe/Stockholm




BEGIN:VEVENT
DTSTART:20260504T110000Z
DTEND:20260507T150000Z
DTSTAMP:20251218T091527Z
SUMMARY:Kurs: Open Science in the Swedish Context 2026
DESCRIPTION:Bedriver du forskning och vill lära dig att tillämpa öppen vetenskap i alla delar av forskningsprocessen?\n\nVälkommen att delta i kursen Open Science in the Swedish Context 2026. Kursen riktar sig till doktorander, postdoktorer, forskare och forskningsledare inom alla vetenskapliga discipliner. Under kursen kommer du att få verktyg för att samla in, analysera, dela, bevara och återanvända data och andra forskningsresultat på ett öppet och tillgängligt sätt.\n\nOpen Science in the Swedish Context 2026 kommer att innehålla interaktiva föreläsningar, diskussioner med gästföreläsare och praktiska arbetsuppgifter. Bland ämnena som tas upp kan nämnas:\n\n\n	Vilken nytta har du som forskare av öppen vetenskap?\n	Lägesrapport kring öppen vetenskap i Sverige.\n	Återanvändning av data via datarepositorier.\n	God forskningspraktik i Sverige.\n	Nya vägar för vetenskaplig publicering.\n	Nya perspektiv på utvärdering av forskningsprestationer.\n	Forskningskommunikation och medborgarforskning.\n\n\nSista anmälningsdag är den 13 mars 2026.\n\nKursen hålls på engelska. Inga förkunskaper krävs.\n\n\n\nFör anmälan och mer information om kursen, se kursens webbsida. \n\n\nNär: 4–7 maj, 2026.\nVar: Wallenberg Conference Center, Gothenburg.\nAnmälan: Open Science in the Swedish Context 2026 webbsida (https://scilifelab-training.github.io/open-science/2605/practicalinformation.html) .\nKontakt: David Rayner (mailto:%20david.rayner@snd.se) , utbildningssamordnare, SND, Ineke Luijten (mailto:%20ineke.luijten@scilifelab.se) , Scientific Training Officer, SciLifeLab\n\nhttps://snd.se/sv/kurs-open-science-swedish-context-2026
UID:a9c9d1b7-46f2-432c-8d63-1318da843369
STATUS:CONFIRMED
LAST-MODIFIED:20260305T135912Z
LOCATION:Wallenberg Conference center, Göteborg
URL:https://snd.se/node/2259
END:VEVENT

END:VCALENDAR