BEGIN:VCALENDAR
VERSION:2.0
METHOD:PUBLISH
PRODID:-//SND // Events//EN
X-WR-TIMEZONE:Europe/Stockholm




BEGIN:VEVENT
DTSTART:20241016T110000Z
DTEND:20241017T110000Z
DTSTAMP:20240605T155405Z
SUMMARY:Nätverksträff i Stockholm hösten 2024
DESCRIPTION:\n\nVälkommen på SND:s nätverksträff i Stockholm\n\nHöstens nätverksträff äger rum på Stockholms universitet och börjar onsdag 16 oktober klockan 13.00 och avslutas med lunch torsdag 17 oktober. Temat för träffen kommer att vara "Forskningsdata – från ax till limpa". Syftet är att belysa de olika roller och ansvarsområden som är knutna till denna process och SND:s samordnande funktion i forskningsdatalandskapet. Nätverksträffen blir startskottet för SND:s kommande projekt med samma titel.\n\nNätverksträffen äger rum i Aula Magna (https://www.google.com/maps/place/Aula+Magna+-+Stockholm+University/@59.3639522,18.0539218,17z/data=!3m1!4b1!4m6!3m5!1s0x465f9d058a6d77d1:0x18228b5220c9c4a5!8m2!3d59.3639522!4d18.0565021!16s%2Fg%2F11b6bgc1m4?entry=ttu&g_ep=EgoyMDI0MDkwMy4wIKXMDSoASAFQAw%3D%3D)  och pågår från klockan 13.00 onsdag 16 oktober t.o.m. lunch torsdag 17 oktober. \n\nOnsdagens program avslutas ca kl. 17 och efterföljs av middag på Värdshuset Kräftan (https://kraftan.nu/)  kl. 17.30.\nTorsdagen kör vi igång kl 8.30.\n\nPå onsdag förmiddag (kl. 10.00–12.00) och torsdag eftermiddag (kl. 13.00–15.30) erbjuds ett antal workshoppar (#workshoppar) .\n\n\nProgram\n\nDag 1, onsdag 16 oktober\n\nProgrammet börjar med det sedvanliga ”Sedan senast och på gång inom SND” (https://snd.se/sites/default/files/2024-10/1%20-%20V%C3%A4lkommen%20och%20Sedan%20senast%20och%20p%C3%A5%20g%C3%A5ng%20inom%20SND.pdf)  innan representanter från Stockholms universitet presenterar sitt arbete med forskningsdata (https://snd.se/sites/default/files/2024-10/2%20-%20Forskningsdatagruppen%20vis%20SU.pdf) .\n\nDärefter introducerar SND föreståndare Eva Stensköld temat för nätverksträffen; "Forskningsdata - från ax till limpa" (https://snd.se/sites/default/files/2024-10/3%20-%20Intro%20forskningsdata%20ax-limpa.pdf)  och SND:s kommande projekt med samma titel. Under passet belyser vi myndighetsperspektivet, dvs. den lagstiftning och de krav vi har att förhålla oss till i de olika stadierna av forskningsdatas livscykel. Thomas Neidenmark (https://snd.se/sites/default/files/2024-10/4%20-%20Regeringens%20arbete%20med%20forskningsdata.pdf)  från Regeringskansliet, Maria Skoglund (https://snd.se/sites/default/files/2024-10/5%20-%20Juridiken%20kring%20forskningsdata.pdf)  från SND, Sofia Särdquist (https://snd.se/sites/default/files/2024-10/6%20-%20Arkiv%20fr%C3%A5n%20ax%20till%20limpa.pdf)  från Riksarkivet och Ulrika Domellöf-Matsson (https://snd.se/sites/default/files/2024-10/7%20-%20Data%20som%20strategisk%20resurs%20SND.pdf)  från Myndigheten för digital förvaltning (Digg) presenterar olika roller och krav i forskningsdataprocessen.\n\nJohan Fröberg från Kungliga biblioteket och Sanja Halling från Vetenskapsrådet kommer i ett samtal med Karin Westin Tikkanen från SND att diskutera respektive organisations samordningsuppdrag inom öppen vetenskap.\n \n\nDag 2, torsdag 17 oktober\n\nDag 2 tar vi oss an forskarperspektivet på temat "Forskningsdata – från ax till limpa". Monica Lassi (https://snd.se/sites/default/files/2024-10/1%20Intro%20-%20hur%20kan%20vi%20g%C3%B6ra%20r%C3%A4tt%20fr%C3%A5n%20b%C3%B6rjan.pdf)  leder dagens program och en röd tråd blir det arbete hon tidigare har genomfört med att kartlägga verksamhetsarkitektur och forskningsdata. Monica kommer att ta ett helhetsgrepp över vilka förmågor i form av kunskap, tjänster och resurser som lärosätet bör ha på plats och hur ansvaret för dessa fördelas.\n\nI tillägg blir det nedslag på valda ställen i ax-till-limpa processen:\nMaria Almbro (https://snd.se/sites/default/files/2024-10/2%20-%20Datapublicering%20vid%20SU.pdf)  och John Fitzpatrick (https://snd.se/sites/default/files/2024-10/3%20-%20Publishing%20research%20data.pdf) , Stockholms universitet, tar för sig publicering och delning av data. Var gör SU:s forskare detta och vad påverkar forskarens val?\nMilijana Deric (https://snd.se/sites/default/files/2024-10/4%20-%20Open%20data%20champions%20LTU.pdf) , Luleå tekniska universitet, berättar om LTU:s nystartade projekt där Open data champions ska stödja lärosätets forskare i hantering av forskningsdata.\nOlof Olsson (https://snd.se/sites/default/files/2024-10/5%20-Metadata%20inom%20ramen%20f%C3%B6r%20researchdata.se_.pdf) , SND, tar upp vikten av goda metadata generellt och berättar om det nationella samarbete kring metadata som sker inom ramen för Researchdata.se.\nRosa Lönneborg (https://snd.se/sites/default/files/2024-10/6%20-%20Modell%20f%C3%B6r%20forskningsdatalivscykeln%20KTH.pdf) , KTH, berättar om KTH:s forskningsdataarbete och beskriver stödet kring datahantering ur forskarens perspektiv. \n\nSom avslutning på dagen knyter Monica Lassi och Eva Stensköld ihop säcken och redogör för hur arbetet med projektet ”Forskningsdata – från ax till limpa” (https://snd.se/sites/default/files/2024-10/8%20Outro%20-%20projektet%20Ax-till-limpa.pdf)  ska fortsätta. \n \n\nWorkshoppar:\n\nDag 1 (10.00–12.00):\n\nKI:s flaggskepp: tekniska lösningar för lagring och delning av öppna respektive skyddsvärda data.\nKarolinska Institutets Data Repository (KI DR) arbetar som en del av KI:s flaggskepp med att ta fram en lagringslösning som går att integrera med en tvåfaktorautentisering vid utdelning av skyddsvärda data, exempelvis medicinska forskningsdata med personuppgifter. Workshopens syfte är att gynna kunskapsutbyte mellan lärosäten genom att presentera befintliga och planerade lagringslösningar, samt att tillsammans diskutera olika lagringslösningars för- och nackdelar.\nSe presentationerna från workshoppen här; KI:s presentation (https://snd.se/sites/default/files/2024-10/KI%20flaggskepp%20ws%20-%20KI%20data%20repository.pdf) , SU:s presentation (https://snd.se/sites/default/files/2024-10/KI%20flaggskepp%20ws%20-%20LagringDelningDataStockholmsUniversitet.pdf)  och KTH:s presentation (https://snd.se/sites/default/files/2024-10/KI%20flaggskepp%20ws%20-%20KTH%20data%20repository.pdf) .\nLokal Bergsmannen. Information skickas till alla anmälda.\n\nSND för nytillkomna\nEn introduktion till vad SND är och arbetet med öppen tillgång till forskningsdata.\nSe presentationen här (https://snd.se/sites/default/files/2024-10/2024-10-16%20SND%20f%C3%B6r%20nytillkomna.pdf) .\nLokal Polstjärnan. Information skickas till alla anmälda.\n\n \n\nDag 2 (13.00–15.30):\n\nLU:s flaggskepp: Långsiktigt bevarande och tillgängliggörande av komplexa databaser\nTrots befintliga infrastrukturlösningar för att lagra och dela dataset kvarstår behov, framför allt inom humaniora och samhällsvetenskap, av flexibla IT-lösningar som säkrar långsiktigt bevarande och tillgängliggörande av komplexa databaser som tagits fram inom forskningsprojekt. Under workshopen presenteras verktyget Heurist som är en webbaserad plattform för att utveckla, dela och bevara mindre forskningsdatabaser. Deltagarna får en genomgång av verktygets funktioner och användningsområde, och får sedan möjlighet att själva bekanta sig med plattformen i en testmiljö.\nSe presentationen här (https://snd.se/sites/default/files/2024-10/LU_flaggskepp_ws_SND_241017.pdf) .\nLokal Polstjärnan. Information skickas till alla anmälda.\n\nGIS i repris\nEn grundläggande genomgång av och övning i att arbeta med GIS-data. Workshoppen bygger på den som gavs hösten 2022 vid nätverksträffen på KI men även med nya inslag. Domänspecialist Ulf Jansson (SU) introducerar geografiska datakoncept och ger instruktioner om hur man öppnar vanliga geografiska (GIS) datafiler med programvaran QGIS. Vi går även igenom en checklista över de viktigaste punkterna att tänka på när man granskar geografiska dataset. Inga förkunskaper krävs.\nSe presentationen här (https://snd.se/sites/default/files/2024-10/GIS_workshop_SND_information_2024.pdf) .\nLokal: U34, Geovetenskapens hus U. Information skickas till alla anmälda.\n\nRutiner för granskningsprocessen\nRepresentanter från SND-kontoret, SLU, SU och LTU tar under workshoppen upp hur rutinerna i arbetet med granskning och kurering av forskningsdata kan organiseras. Det blir möjligt att utväxla erfarenheter och lärdomar med varandra och diskutera lösningar på eventuella utmaningar.\nSe presentationerna från workshoppen här; SLU:s presentation (https://snd.se/sites/default/files/2024-10/Workshop%20granskningsrutiner%20-%20granskning%20%20av%20dataset%20hos%20SLU.pdf) , SU:s presentation (https://snd.se/sites/default/files/2024-10/Workshop%20granskningsrutiner%20-%20granskning%20%20av%20dataset%20hos%20SU.pdf) , LTU:s presentation och SND-kontorets presentation.\nLokal Spelbomskan. Information skickas till alla anmälda.\n\n\n\n \n\n \n\n\nNär: 16 oktober 13.00–17 oktober 12.00 (se information om workshoppar (#workshoppar) ).\n\nVar: Aula Magna (https://www.google.com/maps/place/Aula+Magna+-+Stockholm+University/@59.3639522,18.0539218,17z/data=!3m1!4b1!4m6!3m5!1s0x465f9d058a6d77d1:0x18228b5220c9c4a5!8m2!3d59.3639522!4d18.0565021!16s%2Fg%2F11b6bgc1m4?entry=ttu&g_ep=EgoyMDI0MDkwMy4wIKXMDSoASAFQAw%3D%3D) , Stockholms universitet\n\nAnmälan: Anmälan är nu stängd.\n\nDistans: det blir möjligt att delta på distans via Zoom (gäller ej workshoppar). Länk skickas till anmälda deltagare.\n\nKontaktperson: Elisabeth Strandhagen (mailto:elisabeth.strandhagen@snd.se) \n\nProgram: Program för utskrift hittar du här.\n\nhttps://snd.se/sv/natverkstraff-i-stockholm-2024
UID:728e5e3c-cca6-4ea0-a44c-96a07e9d1b0d
STATUS:CONFIRMED
LAST-MODIFIED:20241022T152059Z
LOCATION:Stockholms universitet
URL:https://snd.se/node/2115
END:VEVENT

END:VCALENDAR