BEGIN:VCALENDAR
VERSION:2.0
METHOD:PUBLISH
PRODID:-//SND // Events//EN
X-WR-TIMEZONE:Europe/Stockholm




BEGIN:VEVENT
DTSTART:20230313T120000Z
DTEND:20230313T133000Z
DTSTAMP:20230119T111225Z
SUMMARY:Flaggskeppsprojekt om flöde för maskinläsbara datahanteringsplaner
DESCRIPTION:\n\nUnder detta webbinarium kommer vi att ge en generell översikt kring maskinläsbara datahanteringsplaner och vilka möjligheter det ger för att beskriva hanteringen av data inom forskningsprojekt under hela forskningsprocessen.\n\nVi kommer också att få insikt i flaggskeppsprojektet för maskinläsbara datahanteringsplaner som nyss har avslutats. Chalmers, KTH och SND har undersökt möjligheten att återanvända administrativa metadata vid publicering av dataset i DORIS. Inom projektet har bland annat möjligheterna för maskinläsbara datahanteringsplaner från DS Wizard och DMP Online diskuterats.\n\nLänk till slutrapporten:\nhttps://doi.org/10.17196/snd.flagship-open-data.2022 (https://doi.org/10.17196/snd.flagship-open-data.2022) \n\n \n\n\nNär: 13 Mars, 13.00-14.30\n\nVar: Zoom-möte (https://gu-se.zoom.us/j/61559822439?pwd=RlpuQy9KTm5oRUtmdmlrRkFzR2FiZz09)  (passcode: 979620)\n\nKontaktperson: Olof Olsson\n\nhttps://snd.se/sv/flaggskeppsprojekt-om-flode-maskinlasbara-datahanteringsplaner
UID:eb25f5c2-9f5e-400b-a853-a9ea833a3f9f
STATUS:CONFIRMED
LAST-MODIFIED:20230216T152002Z
LOCATION:
URL:https://snd.se/node/1998
END:VEVENT

END:VCALENDAR