BEGIN:VCALENDAR
VERSION:2.0
METHOD:PUBLISH
PRODID:-//SND // Events//EN
X-WR-TIMEZONE:Europe/Stockholm




BEGIN:VEVENT
DTSTART:20221102T130000Z
DTEND:20221102T143000Z
DTSTAMP:20221014T151916Z
SUMMARY:RDA webbinarium – RDA och samhällsvetenskap
DESCRIPTION:Som en del i vår webbinarieserie bjuder RDA Nordic in till ett webbinarium om hur RDA (Research Data Alliance) stödjer samhällsvetenskap och modern datahantering inom detta fält. Detta är det femte webbinariet i serien om resultat från RDA-gruppernas arbete.\n\nRDA är en omfattande resurs för generell information om datahantering men också i vissa fall domänspecifik information. Flera RDA-grupper arbetar till exempel för att stödja forskare inom det samhällsvetenskapliga forskningsfältet.\n\nUnder detta webbinarium presenterar vi en översikt av det samhällsvetenskapliga landskapet inom RDA tillsammans med konkreta exempel på hur forskare arbetar med samhällsvetenskapligt domänspecifika datahanteringsstandarder.\n\nProgram:\n \n\n\n	\n	Ricarda Braukmann and Louise Bezuidenhout, DANS:  Social Sciences - Navigating the RDA landscape\n	\n	\n	Hilde Orten, Sikt:  The Data Documentation Initiative (DDI) Metadata Standards in context\n	\n	\n	Benjamin Beuster, Sikt: DDI usage in practice – An example from the European Social Survey\n	\n\n\nFör mer information om de enskilda programpunkterna, se den engelska kalenderposten (https://snd.gu.se/en/rda-webinarium-rda-och-samhallsvetenskap) .\n \n\nWebbinariet hålls på engelska och anordnas i samarbete med DeIC  (https://www.deic.dk/) och Sikt (https://sikt.no/) .\n\nKontaktperson: martin.brandhagen@snd.gu.se\n\nAnmäl dig till webbinariet. (https://deic.zoom.us/meeting/register/u5YqdeusrTgqGdORla2NF6Uz8LzyQFTunbcg) \n\nhttps://snd.se/sv/rda-webinarium-rda-och-samhallsvetenskap
UID:b9b706e5-eb9d-41d1-a792-e1c1d57456b2
STATUS:CONFIRMED
LAST-MODIFIED:20221018T115730Z
LOCATION:Online via zoom (länk skickas via anmälningsformulär)
URL:https://snd.se/node/1975
END:VEVENT

END:VCALENDAR