BEGIN:VCALENDAR
VERSION:2.0
METHOD:PUBLISH
PRODID:-//SND // Events//EN
X-WR-TIMEZONE:Europe/Stockholm




BEGIN:VEVENT
DTSTART:20220607T060000Z
DTEND:20220610T133000Z
DTSTAMP:20220325T111026Z
SUMMARY:IASSIST 2022 - Internationell konferens
DESCRIPTION:\n\nIASSIST-konferensen fokuserar på datarelaterade frågor kopplade till samhällsvetenskap och öppen vetenskap. Den 7-10 juni anordnas ett hybridarrangemang med fysiska möten på plats i Göteborg och med möjlighet att delta på distans. \n\nIASSIST (https://iassistdata.org)  (International Association for Social Science Information Service and Technology) arbetar med forskningsdatarelaterade frågor främst inom det samhällsvetenskapliga området. Varje år anordnar organisationen en konferens som brukar locka hundratals dataintresserade deltagare från hela världen. År 2022 hålls konferensen i Göteborg med SND som värdorganisation.\n\nDet övergripande temat för konferensen är Data by Design – Building a Sustainable Data Culture. Till det kommer en rad underliggande teman som exempelvis Partnerships and collaborations, Data management and archiving, Data access, governance and ethics och Data services of the future. \n\nArrangemanget riktar sig till dem som arbetar med forskningsdatastöd eller på annat sätt är intresserade av frågor kring datahantering och öppen vetenskap. \n\nMer information om program, anmälan och andra praktiska detaljer finns på hemsidan: iassist2022.org (https://iassist2022.org) \n\nLäs mer om några av de programpunkter på konferensen där SND:s medarbetare medverkar:\n\n\n	Gustav Nilsonne: "Hur bygga ett framgångsrikt konsortium för en datainfrastruktur?" (/node/1944) \n	Olof Olsson: "Viktigt att både stort och smått går att identifiera" (/node/1945) \n	Johan Fihn Marberg: "ARIADNE – att bygga en global infrastruktur" (/node/1947) \n	Max Petzold: "Hur skapa incitament för att dela data?" (/node/1948) \n	Ilze Lace: "Ny arkiveringshandbok för folk som älskar data" (/node/1949) \n\n\n\nNär: 7-10 juni 2022\n\nVar: Svenska Mässan, Göteborg och online\n\nOBS! Anmälan krävs, information om anmälningsavgifter finns på konferensens hemsida.\n\nFör frågor kontakta Iris Alfredsson (iris.alfredsson@snd.gu.se (mailto:iris.alfredsson@snd.gu.se) ).\n\nhttps://snd.se/sv/iassist-2022-internationell-konferens
UID:9fed090b-f299-4d3e-abbd-c248ff17f06c
STATUS:CONFIRMED
LAST-MODIFIED:20220531T102213Z
LOCATION:Svenska mässan, Göteborg och online
URL:https://snd.se/node/1938
END:VEVENT

END:VCALENDAR