BEGIN:VCALENDAR
VERSION:2.0
METHOD:PUBLISH
PRODID:-//SND // Events//EN
X-WR-TIMEZONE:Europe/Stockholm




BEGIN:VEVENT
DTSTART:20210830T110000Z
DTEND:20210830T130000Z
DTSTAMP:20210622T093036Z
SUMMARY:RDA-webbinarium: How to make software FAIR
DESCRIPTION:Att göra programvara FAIR överlappar till stor del med FAIR-principerna (https://snd.gu.se/sv/beskriv-och-dela-data/vad-innebar-fair-data)  för forskningsdata, men det kräver vissa unika definitioner och praktiker. Under detta webbinarium kommer vi att fokusera på de grundläggande skillnaderna mellan data och programvara, resultat från RDA:s  (https://www.rd-alliance.org/) arbetsgrupp FAIR4RS (FAIR for Research Software) (https://www.rd-alliance.org/groups/fair-research-software-fair4rs-wg)  och erfarenheter från det nordiska arbetet.  \n\nArrangemanget anordnas gemensamt av den svenska (https://www.rd-alliance.org/groups/rda-sweden)  och danska RDA-noden (https://www.rd-alliance.org/groups/rda-denmark) , som leds av SND respektive DeIC.\n\nPresentatörer:\n\n\n	Leyla Jael Garcia-Castro (FAIR4RS)\n	Carlos Martinez Ortiz (FAIR4RS)\n	Malin Sandström (INCF, SE)\n	Radovan Bast (CodeRefinery, NO)\n\n\nWebbinariet kommer att hållas på engelska.\n\nMer information och program finns att läsa på: https://rda-software-webinar.readthedocs.io/en/latest/ (https://rda-software-webinar.readthedocs.io/en/latest/) \n\n\nNär: 30 augusti, kl. 13.00-15.00\n\nVar: Arrangemanget hålls online. Möteslänk delas med anmälda deltagare.\n\nAnmäl dig här. (https://deic.zoom.us/meeting/register/u5Ypcu-qqDIiHN3RCmgYC9BVUlMtX7bLyclP) \n\nhttps://snd.se/sv/rda-webbinarium-how-make-software-fair
UID:af6d8d8c-9512-498f-bdbd-c9460bdc6458
STATUS:CONFIRMED
LAST-MODIFIED:20210622T102650Z
LOCATION:Distans
URL:https://snd.se/node/1898
END:VEVENT

END:VCALENDAR