BEGIN:VCALENDAR
VERSION:2.0
METHOD:PUBLISH
PRODID:-//SND // Events//EN
X-WR-TIMEZONE:Europe/Stockholm




BEGIN:VEVENT
DTSTART:20210611T080000Z
DTEND:20210611T090000Z
DTSTAMP:20210604T131459Z
SUMMARY:IT-dropin
DESCRIPTION:\n\nUnder några fredagar denna termin håller vi IT-dropin. Detta är tillfällen för dig som har frågor eller funderingar rörande IT-relaterade frågor i anslutning till forskningsdatahantering. Det kan gälla saker som till exempel lagring, integrationer, eller förbättringsförslag till SND:s system. Diskussionerna bygger på de frågor deltagarna har med sig.\n\nIngen föranmälan krävs.\n\nVälkommen!\n\n\nNär: 11 juni, kl. 10.00-11.00\n\nVar: Arrangemanget sker på distans via Zoom. Möteslänk publiceras på SND-nätverkets samarbetsyta på Basecamp (https://3.basecamp.com/3853863/projects/5947445) .\n\nFör frågor kontakta Stefan Jakobsson via stefan.jakobsson@snd.gu.se (mailto:stefan.jakobsson@snd.gu.se) \n\nhttps://snd.se/sv/it-dropin-2
UID:c84aaf4c-b2d9-4679-b359-751752179b49
STATUS:CONFIRMED
LAST-MODIFIED:20210610T090420Z
LOCATION:Distans
URL:https://snd.se/node/1891
END:VEVENT

END:VCALENDAR