BEGIN:VCALENDAR
VERSION:2.0
METHOD:PUBLISH
PRODID:-//SND // Events//EN
X-WR-TIMEZONE:Europe/Stockholm




BEGIN:VEVENT
DTSTART:20210526T110000Z
DTEND:20210526T123000Z
DTSTAMP:20210429T143039Z
SUMMARY:Workshop: granskning och diskussion om audiovisuella data (tillfälle 1)
DESCRIPTION:\n\nAtt navigera inom området för granskning av forskningsdata är inte alltid det lättaste. Varje fall måste bedömas enskilt och många faktorer påverkar: juridiska och etiska frågor, dataformat, projektets begränsningar, tekniska hinder, med mera.\n\nUnder denna workshop kommer vi att undersöka den audiovisuella forskningsdatavärlden och granska AV-data från ett verkligt fall som publicerades tidigare i år. Vi börjar med en kort presentation om tekniska egenskaper hos AV-data och tips om praktisk hantering. Sedan delar vi upp oss i mindre grupper för att gå igenom ett urval data från dagens fall. Vi avslutar mötet med en diskussion tillsammans med en DAU-medlem som granskat materialet i verkligheten.\n\nMax 20 deltagare. Observera att föranmälan krävs.\n\nDenna workshop hålls även 27/5  (https://snd.gu.se/sv/workshop-granskning-och-diskussion-om-audiovisuella-data-tillfalle-2) och 1/6 (https://snd.gu.se/sv/workshop-granskning-och-diskussion-om-audiovisuella-data-tillfalle-3) .\n\n\nNär: 26 maj, kl. 13.00-14.30\n\nVar: Mötet hålls på distans via Zoom.\n\nAnmäl dig här. (https://snd.gu.se/sv/form/2021-05-26-workshop-granskning-o) \n\nFör frågor kontakta Jeremy Azzopardi via jeremy.azzopardi@snd.gu.se (mailto:jeremy.azzopardi@snd.gu.se) .\n\nhttps://snd.se/sv/workshop-granskning-och-diskussion-om-audiovisuella-data-tillfalle-1
UID:bfe1c27e-d18b-4083-96cc-64e20ce38ed1
STATUS:CONFIRMED
LAST-MODIFIED:20210503T163619Z
LOCATION:Distans
URL:https://snd.se/node/1878
END:VEVENT

END:VCALENDAR