BEGIN:VCALENDAR
VERSION:2.0
METHOD:PUBLISH
PRODID:-//SND // Events//EN
X-WR-TIMEZONE:Europe/Stockholm




BEGIN:VEVENT
DTSTART:20210416T080000Z
DTEND:20210416T090000Z
DTSTAMP:20210318T153157Z
SUMMARY:IT-dropin
DESCRIPTION:\n\nUnder några fredagar i vår håller vi IT-dropin. Detta är tillfällen för dig som har frågor eller funderingar rörande IT-relaterade frågor i anslutning till forskningsdatahantering. Det kan gälla saker som till exempel lagring, integrationer, eller förbättringsförslag till SND:s system. Diskussionerna bygger på de frågor deltagarna har med sig.\n\nIngen föranmälan krävs.\n\nVälkommen!\n\n\nNär: 16 april, kl. 10.00-11.00\n\nVar: Arrangemanget sker på distans via Zoom. Möteslänk publiceras på SND-nätverkets samarbetsyta på Basecamp (https://3.basecamp.com/3853863/projects/5947445) .\n\nFör frågor kontakta Johan Fihn Marberg via johan.fihn@snd.gu.se (mailto:johan.fihn@snd.gu.se) \n\nhttps://snd.se/sv/it-dropin-0
UID:e55c4c1d-e553-4a70-b9cc-330a52f8cac0
STATUS:CONFIRMED
LAST-MODIFIED:20210331T112816Z
LOCATION:Distans
URL:https://snd.se/node/1870
END:VEVENT

END:VCALENDAR