BEGIN:VCALENDAR
VERSION:2.0
METHOD:PUBLISH
PRODID:-//SND // Events//EN
X-WR-TIMEZONE:Europe/Stockholm




BEGIN:VEVENT
DTSTART:20210415T080000Z
DTEND:20210415T100000Z
DTSTAMP:20210217T151305Z
SUMMARY:Två steg mot öppna data 2026: Steg 1
DESCRIPTION:Bakgrund\n\nI forskningspropositionen Forskning, frihet, framtid – kunskap och innovation in Sverige (prop. 2020/21:60) (https://www.regeringen.se/4af915/contentassets/da8732af87a14b689658dadcfb2d3777/forskning-frihet-framtid--kunskap-och-innovation-for-sverige.pdf)  meddelar regeringen att de vill påskynda omställningen till ett öppet vetenskapssystem. Man gör tydligt att forskningsdata som har finansierats med offentliga medel ska göras tillgängliga ”så öppet som möjligt och så begränsat som nödvändigt” senast från 2026. Ansvaret för detta läggs gemensamt på lärosäten och forskningsfinansiärer. Man påpekar även att det är av stor betydelse att dessa aktörer harmoniserar sina principer för öppen tillgång till forskningsdata och publikationer så långt som möjligt, och understryker deras ansvar att utforma ”tydliga incitament som främjar öppen vetenskap”.\n\nDet är fem år kvar. Vad behöver vi som är inblandade i det vetenskapliga systemet göra för att hjälpa till att uppnå regeringens mål?\n\nSvensk nationell datatjänst (SND) bjuder in till två öppna arrangemang för att diskutera vägen mot tillgängliga forskningsdata år 2026.\n\n\nSteg 1: Forskare, forskningsstöd, funderingar\n\nVi bjuder in en panel med forskare för att presentera och diskutera hur de ser på regeringens krav vad gäller tillgängliga forskningsdata från och med 2026. Vilka utmaningar och behov ser de inom sina egna veten­skaps­områden och forskarsamhället i stort? Vad skulle de önska sig för hjälp och stöd för att nå dit?\n\nUnder arrangemanget kommer det finnas möjlighet att ställa frågor till panelen. Därefter välkomnas deltagarna till att gruppvis formulera frågor som kan skickas till finansiärerna inför steg 2 (se nedan), och att komma med förslag till möjliga (del)lösningar.\n\nMålgrupp: Lärosätenas forskningsdatastöd (DAU:er) inom SND-nätverket (https://snd.gu.se/sv/om-oss/snd-n%C3%A4tverket) \n\nDatum och tid: 15 april kl. 10.00 - 12.00\n\nDeltagare:\nPanel: Gustaf Nelhans (HB), Katrine Riklund (UmU), Stacey Sörensen (LU) och Michael Tåhlin (SU). \nModerator: Gustav Nilsonne.\nDessutom presenterar Wilhelm Widmark (SU) SUHF:s "Nationella färdplan för öppen vetenskap".\n\nArrangemanget hålls på distans via Zoom.\n\n\nHär kan du läsa mer om innehållet i Steg 2.\n\n\nFör frågor kontakta Elisabeth Strandhagen, elisabeth.strandhagen@snd.gu.se (mailto:elisabeth.strandhagen@snd.gu.se) .\n\nhttps://snd.se/sv/tva-steg-mot-oppna-data-2026-steg-1
UID:b076eb65-056d-490a-92fe-652c3222488c
STATUS:CONFIRMED
LAST-MODIFIED:20210416T081058Z
LOCATION:Distans
URL:https://snd.se/node/1853
END:VEVENT

END:VCALENDAR