BEGIN:VCALENDAR
VERSION:2.0
METHOD:PUBLISH
PRODID:-//SND // Events//EN
X-WR-TIMEZONE:Europe/Stockholm




BEGIN:VEVENT
DTSTART:20201019T000000Z
DTEND:20201020T000000Z
DTSTAMP:20200318T105418Z
SUMMARY:Nätverksträff på distans: var med och påverka SND:s framtid
DESCRIPTION:Under dessa två nätverksmöten kommer det finnas tillfällen för SND-nätverket att komma med inspel till vår kommande ansökan till Vetenskapsrådet. Arbetet har precis tagit fart och det är viktigt för oss att vi i planeringen inför nästa bidragsperiod (från januari 2023) får med oss så många synpunkter och idéer som möjligt från alla våra samarbetsparter och intressenter, där DAU:erna i SND-nätverket är en mycket viktig del. Det första tillfället för nätverket att delta i diskussionerna kommer att infalla på eftermiddagen den 19 oktober och förmiddagen den 20 oktober.\n\nMåndagspasset kommer att inledas med presentationen "Sedan senast och på gång inom SND (https://snd.gu.se/sites/default/files/2020-10/2020-10-19_SND_sedan_senast_och_pa%CC%8A_ga%CC%8Ang.pdf) ".\n\nDetaljerat program och underlag för mötet skickas ut till SND-nätverket.\n\n \n\n\nNär: 19 oktober kl 13.00-16.00, 20 oktober kl 9.00-12.00.\n\nVar: Nätverksmötena hålls på distans via Zoom. Möteslänk skickas till alla anmälda.\n\nAnmäl dig här (https://snd.gu.se/sv/form/2020-10-19-20)  senast måndag 19 oktober kl. 09.00. \n\nhttps://snd.se/sv/aktuellt/arrangemang/2020/natverkstraff-pa-distans-var-med-och-paverka-snds-framtid
UID:a3f610cd-4ed0-4959-b661-363094ca06e5
STATUS:CONFIRMED
LAST-MODIFIED:20210331T112202Z
LOCATION:Distans
URL:https://snd.se/node/1711
END:VEVENT

END:VCALENDAR