BEGIN:VCALENDAR
VERSION:2.0
METHOD:PUBLISH
PRODID:-//SND // Events//EN
X-WR-TIMEZONE:Europe/Stockholm




BEGIN:VEVENT
DTSTART:20261021T110000Z
DTEND:20261022T100000Z
DTSTAMP:20251211T174329Z
SUMMARY:Network meeting in Eskilstuna 21–22 October 2026
DESCRIPTION:\n\nWelcome to SND's Network Meeting in Eskilstuna 21–22 October 2026. \n\nMälardalen University (https://www.mdu.se/en/malardalen-university)  bid you welcome to SND's Network Meeting in Eskilstuna 21–22 October 2026. \n \n\nSave the date – further information will be provided as we get closer to October.\n\nhttps://snd.se/en/network-meeting-eskilstuna-21-22-october-2026
UID:114826ee-c585-45b2-9b9b-fa189736d6d1
STATUS:CONFIRMED
LAST-MODIFIED:20251215T125746Z
LOCATION:Mälardalen University
URL:https://snd.se/node/2257
END:VEVENT

END:VCALENDAR