BEGIN:VCALENDAR
VERSION:2.0
METHOD:PUBLISH
PRODID:-//SND // Events//EN
X-WR-TIMEZONE:Europe/Stockholm




BEGIN:VEVENT
DTSTART:20251002T070000Z
DTEND:20251002T140000Z
DTSTAMP:20250320T114121Z
SUMMARY:Art, Knowledge, Context. A Symposium on Artistic Research
DESCRIPTION:\nArt, Knowledge, Context. A Symposium on Artistic Research\n\nHow is knowledge transmitted within your area of research? What traditions have shaped you and the way you work?\n\nThe symposium is a follow-up of the one-day conference on research data from artistic research, held at KTH, october 2024 (https://snd.se/sv/en-dag-om-konstnarliga-forskningsdata) .\n\nOn this day, in cooperation with the Artistic faculty, University of Gothenburg (https://www.gu.se/en/artistic-faculty) , we'll take the entire artistic research process into considerat, and will discuss documentation of research seen in a greater perspective: In what ways can you as a researcher place yourself in a larger context and relate to the work of other researchers? And what in your own research process do you need to preserve for someone else to be able to continue working on your research question?\n\nThe symposium is aimed at doctoral students and researchers, and combines presentations and discussions of concrete exampels. When you apply to attend, please include a brief abstract of your research, and mention ways in which you could connect your work to previous research, and how other researchers might be able to tie in with your work.\n\nNon-research personel is also welcome to the symposium, although a majority of the seats will be researved for researchers. If you want to take part in the symposium as a representative from research support, please use your abstract to comment on a research project you have come into touch with with, and how they related to a research context and/or worked with documentation for the benefit of other researchers.\n \nThe symposium, including coffee/tea and a simple wrap lunch, is free of charge for all registered participant.\n\nThe main language during the symposium will be English, but discussion may be conducted in either English or Swedish.\n\n \n\nProgram\n\n8.30 Registration opens. Coffee/tea is served.\n\n09.00-09.30 Introductory presentation of the symposium\n\nHenric Benesch, dean och Cecilia Wallerstedt, pro-dean of the Artistic Faculty bids everyone welcome.\n\nKarin W. Tikkanen and Markus Bergström introduce the concept of documentation of artistic research.\n\n9.30-10.40 Introduction and inspiration\n\nInledande samtal vid borden.\n\nInspirational presentations:\n\nAmi Skånberg, dancer, coreograf\nElisabeth Hjorth, HDK-Valand, literary composition\n\n10.40-11.00 Brief paus\n\n11.00-12.00 Round table discussions\n\nParticipants present their own research at the tables, and discuss the content of the presentations.\n\n12.00-13.00 Lunch\n\n13.00-14.30  Perception and comprehension\n\nInspirational presentations:\n\nVictor Langer, art and fragrance historian\nJonathan Westin, Aroseniusarkivet\n\nRound table discussions.\n\n14.30-15.00 Coffe/tea\n\n15.00-16.00 Concluding remarks and questions\n\n-----\nRegistration: registration is now closed.\n\nLocation: Baulan, HDK-Valand, Kristinelundsgatan 6–8 (https://maps.app.goo.gl/iGk5Mcz3ckdzJf3x7) \n\nContact: Karin W. Tikkanen (mailto:karin.tikkanen@snd.se)  (SND), Monica Sand (mailto:monica.sand@gu.se)  (Artistic Faculty, GU)\n\nhttps://snd.se/en/art-knowledge-context-symposium-artistic-research
UID:a34fe781-37ef-4801-89fa-7bd8fa2ed6d7
STATUS:CONFIRMED
LAST-MODIFIED:20250917T150108Z
LOCATION:Baulan, HDK-Valand, Kristinelundsgatan 6–8
URL:https://snd.se/node/2213
END:VEVENT

END:VCALENDAR