BEGIN:VCALENDAR
VERSION:2.0
METHOD:PUBLISH
PRODID:-//SND // Events//EN
X-WR-TIMEZONE:Europe/Stockholm




BEGIN:VEVENT
DTSTART:20250505T070000Z
DTEND:20250509T150000Z
DTSTAMP:20250120T111213Z
SUMMARY:Course: Open Science in the Swedish Context
DESCRIPTION:Are you conducting research and want to learn how to implement Open Science principles to every step of the research process?\n\n\n\nWelcome to register for the course "Open Science in the Swedish Context". The course is aimed at doctoral students, postdoctoral researchers, researchers, and principal investigators across all scientific disciplines. The course will provide you with tools to collect, analyze, share, preserve, and reuse data and other research results with Open Science practices for openness and accessibility.\n\n"Open Science in the Swedish Context" will contain interactive lectures, discussion seminars with guest lecturers, and practical assignments. Topics that will be covered include:\n\n\n	Open Science: what’s in it for you?\n	The state of Open Science in Sweden\n	Data reuse with the help of data repositories\n	Good research practice in Sweden\n	New ways of academic publishing\n	Advances in researcher evaluation\n	Science communication and citizen science.\n\n\nThe course is held 5–9 May at the SciLifeLab campus in Solna and 27 May online.\n\nFor registration and more information about the course, visit the SciLifeLab course website (https://scilifelab-training.github.io/open-science/2505/) .\n\nThe course is held in English. No previous knowledge needed.\n\n\nWhen: 5–9 May (on location) and 27 May (online)\nWhere: SciLifeLab campus Solna, room Air&amp;Fire\nRegistration: SciLifeLab website (https://scilifelab-training.github.io/open-science/2505/) \nContact: David Rayner, Training Coordinator at SND, and Ineke Luijten, Scientific Training Officer at SciLifeLab.\n\nhttps://snd.se/en/course-open-science-swedish-context
UID:e1f99eb8-d512-480d-b750-48274beb1d67
STATUS:CONFIRMED
LAST-MODIFIED:20250120T114431Z
LOCATION:SciLifeLab Solna, room Air&Fire, and online
URL:https://snd.se/node/2168
END:VEVENT

END:VCALENDAR