BEGIN:VCALENDAR
VERSION:2.0
METHOD:PUBLISH
PRODID:-//SND // Events//EN
X-WR-TIMEZONE:Europe/Stockholm




BEGIN:VEVENT
DTSTART:20221102T130000Z
DTEND:20221102T143000Z
DTSTAMP:20221018T111936Z
SUMMARY:RDA Webinar - RDA & Social Sciences
DESCRIPTION:In the successful webinar series on RDA outputs, RDA-Nordic is inviting you to join an exciting webinar on how RDA supports social sciences and contemporary data management practices in this field. This is the 5th webinar in the RDA output series.\n\nRDA is an extensive resource for generic information on data management but also in certain cases domain specific information. Several RDA groups are for example working on supporting researchers in the field of social sciences, and in this webinar we will present an overview of the social sciences landscape in RDA together with concrete examples of how researchers are working with social sciences-specific data management standards.\n\nProgram\n\nRicarda Braukmann and Louise Bezuidenhout, DANS:  Social Sciences - Navigating the RDA landscape\n\nThe Research Data Alliance (RDA) hosts more than hundred Interest and Working groups around various topics related to (open) research data and innovation. For newcomers it can be difficult to navigate the RDA landscape and understand how it operates, and which groups may be relevant to follow. To support (new) social science researchers, DANS has created a report that gives an introduction to RDA and an overview of the groups most relevant for the social science domain. Louise Bezuidenhout and Ricarda Braukmann will present an updated version of this report, first published in 2018. In addition, they will provide an overview of upcoming events, initiatives and changes within the RDA.\n\nHilde Orten, Sikt:  The Data Documentation Initiative (DDI) Metadata Standards in context\n\nThe presentation will introduce the three main products of the DDI Alliance:\n\n\n	DDI-Codebook;\n	DDI-Lifecycle;\n	DDI-Cross domain integration (forthcoming).\n\n\nIn addition, DDI’s role in the metadata standards landscape and in relation to the FAIR principles will be addressed.\n\nBenjamin Beuster, Sikt: DDI usage in practice – An example from the European Social Survey\n\nThe Data Documentation Initiative Lifecycle (DDI-Lifecycle ) is an international standard for describing surveys, questionnaires, statistical data files, and social science study-level information. In this part of the webinar, we will focus on DDI-Lifecycle and its usage in the new data portal of the European Social Survey and provide real life examples.\n\nThe webinar is a cooperation between SND, DeIC  (https://www.deic.dk/) and Sikt (https://sikt.no/) .\n\nContact: martin.brandhagen@snd.gu.se\n\nRegistration for the webinar. (https://deic.zoom.us/meeting/register/u5YqdeusrTgqGdORla2NF6Uz8LzyQFTunbcg) \n\nhttps://snd.se/en/rda-webinarium-rda-och-samhallsvetenskap
UID:b9b706e5-eb9d-41d1-a792-e1c1d57456b2
STATUS:CONFIRMED
LAST-MODIFIED:20221018T113841Z
LOCATION:Zoom Online (link will be sent upon registration)
URL:https://snd.se/node/1975
END:VEVENT

END:VCALENDAR