BEGIN:VCALENDAR
VERSION:2.0
METHOD:PUBLISH
PRODID:-//SND // Events//EN
X-WR-TIMEZONE:Europe/Stockholm




BEGIN:VEVENT
DTSTART:20220607T060000Z
DTEND:20220610T133000Z
DTSTAMP:20220325T112836Z
SUMMARY:IASSIST 2022 - International conference
DESCRIPTION:\n\nThe IASSIST conference focuses on data-related questions in social science and open science. Taking place on 7–10 June, the conference will be a hybrid event with in-person meetings in Gothenburg and virtual participation. \n\nIASSIST (https://iassistdata.org)  (International Association for Social Science Information Service and Technology) works with data-related matters, especially in the social sciences. Every year, the organisation hosts a large conference with hundreds of participants from across the world. In 2022, the conference will be held in Gothenburg, with SND as host organisation. \n\nThe main theme for the conference is Data by Design – Building a Sustainable Data Culture. There will be other sub-themes, such as Partnerships and collaborations, Data management and archiving, Data access, governance and ethics, and Data services of the future.\n\nThe event is aimed at those working with research data support or in various ways are interested in matters concerning data management and open science.\n\nFind additional information about the program, registration, and other practical arrangements at the conference website: iassist2022.org (https://iassist2022.org) \n\nRead more about some of the sessions in which SND staff is participating:\n\n\n	Gustav Nilsonne: "How do we build a successful data infrastructure consortium?" (/node/1944) \n	Olof Olsson: "Important to be able to identify big and small objects" (/node/1945) \n\n\n\nWhen: 7-10 June 2022\n\nWhere: Svenska Mässan, Gothenburg, and online\n\nPlease observe that registration is required. Find information about fees on the conference website.\n\nFor questions, contact Iris Alfredsson (iris.alfredsson@snd.gu.se (mailto:iris.alfredsson@snd.gu.se) ).\n\nhttps://snd.se/en/iassist-2022-international-conference
UID:9fed090b-f299-4d3e-abbd-c248ff17f06c
STATUS:CONFIRMED
LAST-MODIFIED:20220520T113218Z
LOCATION:Svenska mässan, Gothenburg, and online
URL:https://snd.se/node/1938
END:VEVENT

END:VCALENDAR