BEGIN:VCALENDAR
VERSION:2.0
METHOD:PUBLISH
PRODID:-//SND // Events//EN
X-WR-TIMEZONE:Europe/Stockholm




BEGIN:VEVENT
DTSTART:20210324T120000Z
DTEND:20210324T130000Z
DTSTAMP:20210316T174509Z
SUMMARY:Data Management Question Time: Language research
DESCRIPTION:Do you have questions about data management, FAIR data, and open access to research data? Come to our digital Question Time about various research fields.\n\nOn this second Question Time session, we turn to researchers and research data professionals in language research.  \n\nHere to answer your questions will be SND Domain Specialists and Research Data Advisors from the SND main office (https://snd.gu.se/en/contact) . The Domain Specialists are a national resource from a variety of scientific disciplines, and serve to support researchers and other research data professionals in higher education institutions or other research organisations. \n\nThe session will be held in Swedish, but feel free to ask questions in English.\n\nYou’re welcome to submit your questions in advance (https://snd.gu.se/sv/form/doman-dropin-fraga) , and we’ll bring them up during the Question Time.\n\n\nWhen? 24 March, 13:00–14:00\n\nWhere? The Question Time is a virtual session on Zoom. Use this link to join the session. (https://gu-se.zoom.us/j/61499459714?pwd=TTVNREFpRUVBcGlSRjZJYzdEYi85Zz09) \n\nIf you have any questions about the event, please contact Stefan Ekman, stefan.ekman@snd.gu.se (mailto:stefan.ekman@snd.gu.se) .\n\n________________________________________________________________________________________________________________________________________________\n\nUpcoming sessions:\n\n28 April: Medicine and public health\n\n26 May: Social science\n\n29 September: Archaeology and history\n\nhttps://snd.se/en/data-management-question-time-language-research
UID:37f883ad-8ff5-4415-8f9a-75df24adcb06
STATUS:CONFIRMED
LAST-MODIFIED:20210331T113057Z
LOCATION:Online
URL:https://snd.se/node/1864
END:VEVENT

END:VCALENDAR