BEGIN:VCALENDAR
VERSION:2.0
METHOD:PUBLISH
PRODID:-//SND // Events//EN
X-WR-TIMEZONE:Europe/Stockholm




BEGIN:VEVENT
DTSTART:20210415T080000Z
DTEND:20210415T100000Z
DTSTAMP:20210331T131245Z
SUMMARY:Two steps towards open data 2026: Step 1
DESCRIPTION:Background\n\nIn the Government’s Research and Innovation Bill Forskning, frihet, framtid – kunskap och innovation för Sverige (prop. 2020/21:60) (https://www.regeringen.se/4af915/contentassets/da8732af87a14b689658dadcfb2d3777/forskning-frihet-framtid--kunskap-och-innovation-for-sverige.pdf)  (Research, freedom, future – knowledge and innovation for Sweden), the government announces that it wants to see a faster transition to a system of open science. They make it clear that data that have been granted public funding should be made accessible and “as open as possible, as closed as necessary” no later than from 2026. The responsibility for this will be shared by the higher education institutions and research funders alike. The government also notes that it is of great importance that these parties harmonise their principles for open access to research data and publications as far as possible, and emphasise their duty to create incentives to advance open science.\n\nWe have five years to go. What do we in the scientific system need to do to help achieve the government’s goal?\n\nSwedish National Data Service (SND) invites you to two open events to discuss the road to accessible research data in 2026.\n\n\nStep 1: Researchers, research support, reflections\n\nWe have invited a panel of researchers to present and discuss their views on the government’s request for accessible research data from 2026. What challenges and needs are they aware of in their respective scientific fields, and in the wider research community? What help and support would they like to see in order to achieve the government’s goal?\n\nIt will be possible to ask questions to the panel during the panel session. Afterwards, participants are welcome to join discussion groups to formulate questions to send to funders in preparation of Step 2 of this event (see below), and to suggest possible (partial) solutions.\n\nTarget audience: The research data support units (DAU) in higher education institutions in the SND Network (https://snd.gu.se/en/about-us/snd-network) .\n\nDate and time: 15 April, 10:00–12:00\n\nParticipants:\nPanel: Gustaf Nelhans (HB), Katrine Riklund (UmU), Stacey Sörensen (LU), and Michael Tåhlin (SU). \nModerator: Gustav Nilsonne.\nPresenter: Wilhelm Widmark (SU) will present the SUHF "Nationella färdplan för öppen vetenskap" (Roadmap to open science).\n\nThis will be a virtual event on Zoom.\n\nRegister here. (https://snd.gu.se/sv/form/2021-04-15-05-06-anmalan-tva-ste) \n\n\nYou can read more about the contents of Step 2 here. (https://snd.gu.se/en/two-steps-towards-open-data-2026-step-2) \n\n\nIf you have any questions, please contact Elisabeth Strandhagen, elisabeth.strandhagen@snd.gu.se (mailto:elisabeth.strandhagen@snd.gu.se) .\n\nhttps://snd.se/en/two-steps-towards-open-data-2026-step-1
UID:b076eb65-056d-490a-92fe-652c3222488c
STATUS:CONFIRMED
LAST-MODIFIED:20210407T115119Z
LOCATION:Virtual
URL:https://snd.se/node/1853
END:VEVENT

END:VCALENDAR