BEGIN:VCALENDAR
VERSION:2.0
METHOD:PUBLISH
PRODID:-//SND // Events//EN
X-WR-TIMEZONE:Europe/Stockholm




BEGIN:VEVENT
DTSTART:20191003T000000Z
DTEND:20191003T000000Z
DTSTAMP:20190815T132603Z
SUMMARY:The F and R in FAIR
DESCRIPTION:\n\nWhat do the FAIR principles Findable and Reusable mean?\n\nWhat is done in the field to make research data findable and reusable? How do researchers and research data professionals prepare the data to make it possible to find and reuse them for new research? How can we reach out to researchers and how do we communicate these questions with them?\n\nIn this network meeting we will dive deeper into what demands we can reasonably place on metadata in order to make research data findable and reusable. When are there enough metadata? What is a reasonable level for the DAU staff's review of data descriptions and datasets? What is, in the end, good enough?\n\nWe will discuss various perspectives on the findability and reusability of data and listen to network members’ practices and ideas on F and R.\n\nNote that the discussions and presentations are held in Swedish/Norwegian.\n\n \n\nSND’s network meeting on 3 October, 2019.\n\nLocation: Wallenbergsalen, Conference Centre Wallenberg, Gothenburg\n\n\n	\n		\n			\n			Programme\n			\n			 \n		\n		\n			09:30–10:00\n			\n			Registration, coffee.\n			\n		\n		\n			10:00–11:00\n			\n			Welcome and status report (https://snd.gu.se/sites/default/files/2019-10/Sedan%20senast_Elisabeth_Strandhagen_Gustav_Nilsonne_Max_Petzold.pdf) \n			(Max Petzold, Elisabeth Strandhagen, Gustav Nilsonne)\n			\n		\n		\n			11:00–12:00\n			\n			DAU arbetet vid ett norskt universitet (DAU work in a Norwegian University)\n			How does University of Tromsø - The Arctic University of Norway work with support to researchers, data and metadata?\n			(Leif Longva)\n			\n		\n		\n			12:00–13:00\n			\n			Lunch\n			\n		\n		\n			13:00–15:50\n			\n			F:et och R:et i FAIR (The F and R in FAIR) (https://snd.gu.se/sites/default/files/2019-10/F%20och%20R%20i%20FAIR_Iris_Alfredsson_Ulf_Jakobsson.pdf) \n			Introduction: What is F and R?\n			(Iris Alfredsson, Ulf Jakobsson)\n			\n			Panel session: Perspectives on F and R.\n			(Panel: Cecilia Björkdahl, Caspar Jordan, Iris Alfredsson, Jonas Fransson, Leif Longva, Max Petzold. Moderator: Helena Rohdén)\n			\n			Group discussions: F and R in practice.\n			\n		\n		\n			15:50–16:00\n			Conclusion\n			(Max Petzold, Elisabeth Strandhagen)\n		\n	\n\n\n \n\nThe programme in PDF format (Swedish) (https://snd.gu.se/sites/default/files/2019-10/program_n%C3%A4tverkstr%C3%A4ff_2019-10-03.pdf) .\n\n\nThe network meeting is free of charge, and lunch as well as coffee is included. The event is open for members in the SND Network only. Are you part of the SND Network? Register here. We need your registration by 23 September.\n\nAny questions? Contact Elisabeth Strandhagen (elisabeth.strandhagen@gu.se).\n\nTime: 10:00–16:00 (Registration and coffee from 09:30)\nLocation: Wallenbergsalen, Conference Centre Wallenberg, Medicinaregatan 20, Gothenburg\n\nMap (https://www.google.se/maps/place/Wallenbergs+Konferenscentrum/@57.6877778,11.958071,17z/data=!3m1!4b1!4m5!3m4!1s0x464ff313c630b7af:0x861010a67293672b!8m2!3d57.6877778!4d11.9602597?hl=sv&authuser=0) \n\nhttps://snd.se/en/news-events/events/2019/f-and-r-fair
UID:9606c5d0-eb85-4810-ad78-30f5b448d8cd
STATUS:CONFIRMED
LAST-MODIFIED:20210331T112202Z
LOCATION:Göteborg
URL:https://snd.se/node/1622
END:VEVENT

END:VCALENDAR